BEGIN:VCALENDAR
VERSION:2.0
PRODID:-//hacksw/handcal//NONSGML v1.0//EN
BEGIN:VEVENT
SUMMARY:U14 / Championnat (10h30 / TD)...
UID:561a69d9-1313-48b9-ac50-0cf1c666b41e
DTSTART:20260426T083000Z
DTEND:20260426T103000Z
LOCATION:Localisation   
CATEGORIES:Sportif
STATUS:
URL;VALUE=URI:https://www.use-saint-leu-desserent-football.com/evenements/2026/04/26/u14-championnat-10h30-td-2119304
END:VEVENT
END:VCALENDAR
