BEGIN:VCALENDAR
VERSION:2.0
PRODID:-//hacksw/handcal//NONSGML v1.0//EN
BEGIN:VEVENT
SUMMARY:Feminines 2 / Championnat (10h30 / TD)...
UID:733e7e79-4b2d-448f-a4a1-725c4e90c1e4
DTSTART:20260426T083000Z
DTEND:20260426T100000Z
LOCATION:Localisation   
CATEGORIES:Sportif
STATUS:
URL;VALUE=URI:https://www.use-saint-leu-desserent-football.com/evenements/2026/04/26/feminines-2-championnat-10h30-td-2177007
END:VEVENT
END:VCALENDAR
