BEGIN:VCALENDAR
VERSION:2.0
PRODID:-//hacksw/handcal//NONSGML v1.0//EN
BEGIN:VEVENT
SUMMARY:U18F / Entente St Leu-Villers (14h30)...
UID:82335fd0-6296-4378-9e91-679e5c4e49c7
DTSTART:20260425T123000Z
DTEND:20260425T140000Z
LOCATION:Localisation   
CATEGORIES:Sportif
STATUS:
URL;VALUE=URI:https://www.use-saint-leu-desserent-football.com/evenements/2026/04/25/u18f-entente-st-leu-villers-14h30-2305534
END:VEVENT
END:VCALENDAR
