BEGIN:VCALENDAR
VERSION:2.0
PRODID:-//hacksw/handcal//NONSGML v1.0//EN
BEGIN:VEVENT
SUMMARY:U18 / Championnat (14h30 / TD)...
UID:ed5ad347-a6b7-40f2-b2ab-42a04d27c05f
DTSTART:20260425T123000Z
DTEND:20260425T143000Z
LOCATION:Localisation   
CATEGORIES:Sportif
STATUS:
URL;VALUE=URI:https://www.use-saint-leu-desserent-football.com/evenements/2026/04/25/u18-championnat-14h30-td-2220341
END:VEVENT
END:VCALENDAR
