BEGIN:VCALENDAR
VERSION:2.0
PRODID:-//hacksw/handcal//NONSGML v1.0//EN
BEGIN:VEVENT
SUMMARY:U15-1 / Championnat (14h00)...
UID:47797e86-f60b-456b-87c6-5c84e8e17a61
DTSTART:20260425T120000Z
DTEND:20260425T140000Z
LOCATION:Localisation   
CATEGORIES:Sportif
STATUS:
URL;VALUE=URI:https://www.use-saint-leu-desserent-football.com/evenements/2026/04/25/u15-1-championnat-14h00-2071707
END:VEVENT
END:VCALENDAR
